BEGIN:VCALENDAR
VERSION:2.0
PRODID:-//Ziber2013/
CALSCALE:GREGORIAN
BEGIN:VEVENT
UID:245507@https://archief.hoorngids.nl
DTSTART:20260424T201500
DTEND:20260424T220000
SUMMARY:Lisa Ostermann - De Baas - Schouwburg Het Park
DESCRIPTION:<p><b>Scherp cabaret over macht\, ambitie en andere ‘serieuze zaken’</b></p><p><i>De Baas</i> is de nieuwe cabaretvoorstelling van Lisa Ostermann\, winnares van de Poelifinario Engagement in 2024. In Hoorn zie je haar op haar scherpst\, met vileine grappen\, bitterzoete liedjes en een nieuwe werknemer. Want Lisa is niet langer alleen zichzelf de baas.</p><p><b>De baas zijn: hoe moeilijk kan het zijn?</b></p><p>Na het succes van haar vorige voorstelling\, bekroond met de Poelifinario\, is Lisa Ostermann terug met <i>De Baas</i>. Ze heeft eindelijk geld\, een privéleven zonder drama en een stevig carrière fundament. Tijd om verder te kijken. Naar macht. Invloed. Controle. Of in elk geval een werknemer.</p><p>“Macht schijnt mensen te corrumperen\, maar ik blijf er heel sympathiek en integer onder”\, zegt Lisa\, schreeuwend. Verwacht een avond vol scherpe observaties\, absurde twists en gelaagde humor. Want wie is eigenlijk de baas in een wereld waar alles tegelijk mis en mogelijk is?</p><p><b>Cabaret met stijl én tanden</b></p><p>“Het cabaret heeft er een nieuwe ster bij”\, schreef NRC over Lisa’s vorige voorstelling. Trouw noemde haar “een natuurtalent”\, en Theaterkrant zag “een complete cabaretière”. In <i>De Baas</i> bewijst Lisa opnieuw dat ze tot de top behoort. Haar stijl is eigenzinnig\, muzikaal en doordacht\, met een timing waar je U tegen zegt.</p>
LOCATION:Schouwburg en Congrescentrum Het Park\, Westerdijk 4\, 1621 LE HOORN NH
ATTACH;FMTTYPE=image/jpeg:/content/16408/agenda/clnt/13a8af00ccde46669c64a931879390d1.png?width=1600&height=1200
SEQUENCE:0
DTSTAMP:20260422T140748
END:VEVENT
END:VCALENDAR
