BEGIN:VCALENDAR
VERSION:2.0
PRODID:-//Ziber2013/
CALSCALE:GREGORIAN
BEGIN:VEVENT
UID:245434@https://archief.hoorngids.nl
DTSTART:20260421T201500
DTEND:20260421T220000
SUMMARY:Tineke Schouten - Femme Vitaal - Schouwburg Het Park
DESCRIPTION:<p><b>Een energieke show vol typetjes\, ontroering en humor over jong blijven op leeftijd</b></p><p><i>Femme Vitaal</i> is Tineke Schoutens 28e show en opnieuw staat ze avond aan avond voor uitverkochte zalen. In Hoorn zie je de koningin van de typetjes in topvorm\, met scherpe grappen\, mooie liedjes en een flinke dosis levenslust.</p><p><b>Vitaal\, geestig en op volle snelheid</b></p><p>De pensioenleeftijd heeft ze allang achter zich gelaten\, maar Tineke Schouten dendert nog altijd over het podium alsof ze net begonnen is. In <i>Femme Vitaal</i> vraagt ze zich hardop af hoe ze het allemaal volhoudt. Want achter de geraniums zitten is niets voor haar\, maar erachter vandaan komen\, dat gaat niet meer zo soepel als twintig jaar geleden.</p><p>Met haar kenmerkende humor en timing neemt Tineke het publiek mee in haar zoektocht naar vitaliteit\, oerkracht en de kunst van het ouder worden. Nederland in Beweging of De Perfecte Verbouwing? Alles komt langs in een wervelende show vol herkenning en plezier.</p><p><b>Grappen én ontroering</b></p><p>In <i>Femme Vitaal</i> wisselt de daverende lach moeiteloos af met intieme momenten. Ontroerende liedjes\, begeleid door haar vaste band\, geven de voorstelling diepgang en warmte. En natuurlijk passeren haar geliefde typetjes opnieuw de revue. Al draagt Tineke tegenwoordig wél liever een shirt met een mouwtje.</p><p>Van jong tot oud: het publiek van Tineke Schouten telt inmiddels vier generaties. In Schouwburg Het Park in Hoorn staat ze opnieuw garant voor een avond onvervalst theaterplezier\, recht uit het hart.</p>
LOCATION:Schouwburg en Congrescentrum Het Park\, Westerdijk 4\, 1621 LE HOORN NH
ATTACH;FMTTYPE=image/jpeg:/content/16408/agenda/clnt/c9098d95b59f4701907b263e7385f968.png?width=1600&height=1200
SEQUENCE:0
DTSTAMP:20260420T043022
END:VEVENT
END:VCALENDAR
